BEGIN:VCALENDAR
VERSION:2.0
PRODID:-//wp-events-plugin.com//7.2.3.1//EN
BEGIN:VEVENT
UID:10@creativecincy.online
DTSTART:20241005T103000Z
DTEND:20241005T103000Z
DTSTAMP:20240822T105650Z
URL:https://creativecincy.online/events/viewpoint-56-visual-arts-exhibitio
 n/
SUMMARY:Viewpoint 56 Visual Arts Exhibition
DESCRIPTION:The exhibition aims to provide a platform for both established 
 and emerging artists\, allowing them to present their work to the public. 
 It will feature a variety of artistic styles and mediums\, fostering a ric
 h dialogue about contemporary art and its relevance in today's society.Thi
 s event is an opportunity for art enthusiasts to engage with a wide array 
 of artistic expressions and support artists from across the nation.
ATTACH;FMTTYPE=image/jpeg:https://creativecincy.online/wp-content/uploads/
 2024/08/Untitled-design-7.jpg
CATEGORIES:Art Gallery,Art Studio,Gallery Exhibit,Group
 Exhibit,Medium,Paint,Type Of Contact,Types Of Exhibits
LOCATION:Eisele Gallery\, 6936 Madisonville Road\, Cincinnati\, OH\, 45227\
 , United States
X-APPLE-STRUCTURED-LOCATION;VALUE=URI;X-ADDRESS=6936 Madisonville Road\, Ci
 ncinnati\, OH\, 45227\, United States;X-APPLE-RADIUS=100;X-TITLE=Eisele Ga
 llery:geo:0,0
END:VEVENT
END:VCALENDAR